BEGIN:VCALENDAR
VERSION:2.0
PRODID:-//www.lausen.ch//NONSGML kigkonsult.se iCalcreator 2.22//
CALSCALE:GREGORIAN
METHOD:PUBLISH
X-WR-TIMEZONE:Europe/Berlin
BEGIN:VEVENT
UID:20260425T134320CEST-4292E9zJjx@www.lausen.ch
DTSTAMP:20260425T114320Z
DESCRIPTION:Klicken Sie auf den folgenden Link\, um weitere Informationen z
 ur Veranstaltung zu erhalten:\nhttp://www.lausen.ch/de/veranstaltungen/det
 ail/detail.php?i=763
DTSTART:20260425T150000
DTEND:20260425T170000
LOCATION:Zirkuszelt
SUMMARY:Zirkus Aria
END:VEVENT
END:VCALENDAR
